BEGIN:VCALENDAR
VERSION:2.0
PRODID:-//Sean-nós &amp; Set Dance with Maldon - ECPv6.15.16.1//NONSGML v1.0//EN
CALSCALE:GREGORIAN
METHOD:PUBLISH
X-WR-CALNAME:Sean-nós &amp; Set Dance with Maldon
X-ORIGINAL-URL:https://maldonmeehan.com
X-WR-CALDESC:Events for Sean-nós &amp; Set Dance with Maldon
REFRESH-INTERVAL;VALUE=DURATION:PT1H
X-Robots-Tag:noindex
X-PUBLISHED-TTL:PT1H
BEGIN:VTIMEZONE
TZID:UTC
BEGIN:STANDARD
TZOFFSETFROM:+0000
TZOFFSETTO:+0000
TZNAME:UTC
DTSTART:20250101T000000
END:STANDARD
END:VTIMEZONE
BEGIN:VEVENT
DTSTART;TZID=UTC:20260515T190000
DTEND;TZID=UTC:20260515T220000
DTSTAMP:20260423T115802
CREATED:20250521T173818Z
LAST-MODIFIED:20250904T182734Z
UID:19758-1778871600-1778882400@maldonmeehan.com
SUMMARY:3rd Friday Céilí | Betsy Branch & The Youth Céilí Band
DESCRIPTION:On Friday\, May 15th\, the beloved 3rd Friday Céilí returns to Waverly with a very special focus: celebrating and welcoming the next generation of Irish musicians. Esteemed fiddler Betsy Branch will lead Portland’s youth musicians in an unforgettable evening of live Irish music\, while Maldon Meehan calls the dances. \nLast year’s youth-led céilí was a hugely successful\, joy-filled night\, and this year promises to be even bigger. Any youth musician is welcome to learn the tunes and join in. Betsy will provide a set list of tunes in advance\, giving young players the chance to play alongside seasoned musicians and experience the magic of powering a dance floor. \n“There’s nothing quite like the energy when young musicians and dancers come together\,” says caller Maldon Meehan. “The céilí is where tradition comes alive\, and we’re thrilled to open the floor — and the music — to the next generation.” \nEvent Details\nAll Sets Céilí – Irish Squares in Portland\nFriday\, May 15th | 7:00 – 10:00 pm\nWaverly | 3300 SE Woodward St\, Portland \n\nLive Irish music featuring Portland youth musicians\, led by Betsy Branch\nAll dances called & taught by Maldon Meehan – no experience needed\nNon-gendered calling\, no partner required\n$15 at the door\nPlease bring a water bottle\, towel\, and non-scuffing slick or leather-soled shoes (no street shoes)\n\nWhether you’re a seasoned dancer or brand new\, you’re welcome on the floor. Come for the community\, the tunes\, and the craic—and support Portland’s young musicians as they step into the tradition. \nMore info: www.maldonmeehan.com
URL:https://maldonmeehan.com/event/3rd-friday-ceili-11/
LOCATION:Waverly\, 3300 SE Woodward St\, Portland\, OR
CATEGORIES:Dance
END:VEVENT
END:VCALENDAR