BEGIN:VCALENDAR
VERSION:2.0
PRODID:-//Sean-nós &amp; Set Dance with Maldon - ECPv6.15.16.1//NONSGML v1.0//EN
CALSCALE:GREGORIAN
METHOD:PUBLISH
X-WR-CALNAME:Sean-nós &amp; Set Dance with Maldon
X-ORIGINAL-URL:https://maldonmeehan.com
X-WR-CALDESC:Events for Sean-nós &amp; Set Dance with Maldon
REFRESH-INTERVAL;VALUE=DURATION:PT1H
X-Robots-Tag:noindex
X-PUBLISHED-TTL:PT1H
BEGIN:VTIMEZONE
TZID:UTC
BEGIN:STANDARD
TZOFFSETFROM:+0000
TZOFFSETTO:+0000
TZNAME:UTC
DTSTART:20250101T000000
END:STANDARD
END:VTIMEZONE
BEGIN:VEVENT
DTSTART;TZID=UTC:20260320T190000
DTEND;TZID=UTC:20260320T220000
DTSTAMP:20260423T202552
CREATED:20250521T173637Z
LAST-MODIFIED:20251223T191245Z
UID:19754-1774033200-1774044000@maldonmeehan.com
SUMMARY:3rd Friday Céilí | Geraldine Murrary
DESCRIPTION:
URL:https://maldonmeehan.com/event/3rd-friday-ceili-9/
LOCATION:Waverly\, 3300 SE Woodward St\, Portland\, OR
CATEGORIES:Dance
END:VEVENT
BEGIN:VEVENT
DTSTART;TZID=UTC:20260317T183000
DTEND;TZID=UTC:20260317T203000
DTSTAMP:20260423T202552
CREATED:20260224T172149Z
LAST-MODIFIED:20260224T173007Z
UID:22308-1773772200-1773779400@maldonmeehan.com
SUMMARY:Tuesday Night Céilí
DESCRIPTION:Irish Set Dance Céilí\nLive Music • Called Dances • Great Craic\n\nJoin us for an evening of Irish set dancing with live music to lift your feet and a caller to guide you every step of the way.\nNo experience? No partner? No problem!\n\nAll dances will be taught and called\, so whether it’s your very first céilí or your fiftieth\, you’ll be right at home on the floor.\nBring your friends\, bring your family\, or just bring yourself — céilí dancing is all about community\, laughter\, and moving together to glorious tunes.\n\nWe’ll gather at Steeplejack Brewing Company – Union on Hawthorne\, a family-friendly venue with plenty of space to dance and relax. Come early\, grab dinner from one of the fantastic nearby food carts\, and bring your meal inside to enjoy before we kick things off.\n\nGood music. Good company.\nWe’d love to see you there.\n\nhttps://www.steeplejackbeer.com/union-on-hawthorne
URL:https://maldonmeehan.com/event/tuesday-ceili/
LOCATION:Steeplejack\, 3757 SE Hawthorne Blvd\, Portland\, OR\, 97214\, United States
END:VEVENT
BEGIN:VEVENT
DTSTART;TZID=UTC:20260310T183000
DTEND;TZID=UTC:20260310T203000
DTSTAMP:20260423T202552
CREATED:20260224T172111Z
LAST-MODIFIED:20260224T173058Z
UID:22305-1773167400-1773174600@maldonmeehan.com
SUMMARY:Tuesday Night Céilí
DESCRIPTION:Irish Set Dance Céilí\nLive Music • Called Dances • Great Craic\n\nJoin us for an evening of Irish set dancing with live music to lift your feet and a caller to guide you every step of the way.\nNo experience? No partner? No problem!\n\nAll dances will be taught and called\, so whether it’s your very first céilí or your fiftieth\, you’ll be right at home on the floor.\nBring your friends\, bring your family\, or just bring yourself — céilí dancing is all about community\, laughter\, and moving together to glorious tunes.\n\nWe’ll gather at Steeplejack Brewing Company – Union on Hawthorne\, a family-friendly venue with plenty of space to dance and relax. Come early\, grab dinner from one of the fantastic nearby food carts\, and bring your meal inside to enjoy before we kick things off.\n\nGood music. Good company.\nWe’d love to see you there.\n\nhttps://www.steeplejackbeer.com/union-on-hawthorne
URL:https://maldonmeehan.com/event/tuesday-night-ceili/
LOCATION:Steeplejack\, 3757 SE Hawthorne Blvd\, Portland\, OR\, 97214\, United States
END:VEVENT
BEGIN:VEVENT
DTSTART;TZID=UTC:20260309T190000
DTEND;TZID=UTC:20260309T210000
DTSTAMP:20260423T202552
CREATED:20251223T194009Z
LAST-MODIFIED:20251223T194009Z
UID:21686-1773082800-1773090000@maldonmeehan.com
SUMMARY:WORKSHOP | Playing for Irish Set Dancing
DESCRIPTION:Pre-registration required. Contact Maldon or Betsy Branch to register and for the address.
URL:https://maldonmeehan.com/event/workshop-playing-for-irish-set-dancing-3/
LOCATION:OR
CATEGORIES:Workshop
END:VEVENT
BEGIN:VEVENT
DTSTART;TZID=UTC:20260220T190000
DTEND;TZID=UTC:20260220T220000
DTSTAMP:20260423T202552
CREATED:20250521T173559Z
LAST-MODIFIED:20251223T191650Z
UID:19752-1771614000-1771624800@maldonmeehan.com
SUMMARY:3rd Friday Céilí | Erik Killops
DESCRIPTION:All Sets Céilí – Irish Squares in Portland! \nJoin us every 3rd Friday (Sept–May) for a night of joyful Irish set dancing — it’s like Irish meets square dancing\, and it’s a blast! \n7:00 – 10:00 pm\nWaverly\, 3300 SE Woodward St\, Portland\nLive music\nAll dances called & taught\nNon-gendered calling\nNo partner needed\nGreat fun guaranteed \nWhether you’re a seasoned dancer or brand new\, you’re welcome on the floor. Come for the community\, the tunes\, and the craic! \nMore info www.maldonmeehan.com
URL:https://maldonmeehan.com/event/3rd-friday-ceili-8/
LOCATION:Waverly\, 3300 SE Woodward St\, Portland\, OR
CATEGORIES:Dance
ATTACH;FMTTYPE=image/png:https://maldonmeehan.com/wp-content/uploads/2025/05/ChatGPT-Image-Jun-3-2025-at-06_15_26-PM.png
END:VEVENT
BEGIN:VEVENT
DTSTART;TZID=UTC:20260209T190000
DTEND;TZID=UTC:20260209T210000
DTSTAMP:20260423T202552
CREATED:20251223T193924Z
LAST-MODIFIED:20251223T193924Z
UID:21684-1770663600-1770670800@maldonmeehan.com
SUMMARY:WORKSHOP | Playing for Irish Set Dancing
DESCRIPTION:Pre-registration required. Contact Maldon or Betsy Branch to register and for the address.
URL:https://maldonmeehan.com/event/workshop-playing-for-irish-set-dancing-2/
LOCATION:OR
CATEGORIES:Workshop
END:VEVENT
BEGIN:VEVENT
DTSTART;TZID=UTC:20260116T190000
DTEND;TZID=UTC:20260116T220000
DTSTAMP:20260423T202552
CREATED:20250521T173450Z
LAST-MODIFIED:20251223T191602Z
UID:19750-1768590000-1768600800@maldonmeehan.com
SUMMARY:3rd Friday Céilí | Biddy on the Bench
DESCRIPTION:
URL:https://maldonmeehan.com/event/3rd-friday-ceili-7/
LOCATION:Waverly\, 3300 SE Woodward St\, Portland\, OR
CATEGORIES:Dance
ATTACH;FMTTYPE=image/png:https://maldonmeehan.com/wp-content/uploads/2025/05/ChatGPT-Image-Jun-3-2025-at-06_15_34-PM.png
END:VEVENT
BEGIN:VEVENT
DTSTART;TZID=UTC:20260112T190000
DTEND;TZID=UTC:20260112T210000
DTSTAMP:20260423T202552
CREATED:20251223T193836Z
LAST-MODIFIED:20251223T193836Z
UID:21682-1768244400-1768251600@maldonmeehan.com
SUMMARY:WORKSHOP | Playing for Irish Set Dancing
DESCRIPTION:Pre-registration required. Contact Maldon or Betsy Branch to register and for the address.
URL:https://maldonmeehan.com/event/workshop-playing-for-irish-set-dancing/
LOCATION:OR
CATEGORIES:Workshop
END:VEVENT
END:VCALENDAR