BEGIN:VCALENDAR
VERSION:2.0
PRODID:-//Sean-nós &amp; Set Dance with Maldon - ECPv6.15.16.1//NONSGML v1.0//EN
CALSCALE:GREGORIAN
METHOD:PUBLISH
X-WR-CALNAME:Sean-nós &amp; Set Dance with Maldon
X-ORIGINAL-URL:https://maldonmeehan.com
X-WR-CALDESC:Events for Sean-nós &amp; Set Dance with Maldon
REFRESH-INTERVAL;VALUE=DURATION:PT1H
X-Robots-Tag:noindex
X-PUBLISHED-TTL:PT1H
BEGIN:VTIMEZONE
TZID:UTC
BEGIN:STANDARD
TZOFFSETFROM:+0000
TZOFFSETTO:+0000
TZNAME:UTC
DTSTART:20250101T000000
END:STANDARD
END:VTIMEZONE
BEGIN:VEVENT
DTSTART;VALUE=DATE:20260416
DTEND;VALUE=DATE:20260420
DTSTAMP:20260423T142921
CREATED:20251231T161636Z
LAST-MODIFIED:20251231T161636Z
UID:21710-1776297600-1776643199@maldonmeehan.com
SUMMARY:Spring Dance Intensive
DESCRIPTION:4 days of Sean-nos dance workshop in Portland\, Oregon. Limited to 10 people.
URL:https://maldonmeehan.com/event/spring-dance-intensive/
LOCATION:OR
CATEGORIES:Camp
END:VEVENT
BEGIN:VEVENT
DTSTART;VALUE=DATE:20260416
DTEND;VALUE=DATE:20260420
DTSTAMP:20260423T142921
CREATED:20260104T143634Z
LAST-MODIFIED:20260104T143634Z
UID:21895-1776297600-1776643199@maldonmeehan.com
SUMMARY:Spring Dance Intensive
DESCRIPTION:A 4 day intensive in Sean-nós dance.
URL:https://maldonmeehan.com/event/spring-dance-intensive-2/
LOCATION:Maldon Meehan Dance Studio\, Contact Maldon for the Address\, Portland\, 97211\, United States
CATEGORIES:Camp
END:VEVENT
BEGIN:VEVENT
DTSTART;TZID=UTC:20260417T190000
DTEND;TZID=UTC:20260417T220000
DTSTAMP:20260423T142921
CREATED:20250521T173729Z
LAST-MODIFIED:20251223T191126Z
UID:19756-1776452400-1776463200@maldonmeehan.com
SUMMARY:3rd Friday Céilí | Joe Root Memorial Céilí
DESCRIPTION:Live music by Two Rivers Céilí BandAll dances called & taught • Non-gendered calling • No partner needed.
URL:https://maldonmeehan.com/event/3rd-friday-ceili-10/
LOCATION:Waverly\, 3300 SE Woodward St\, Portland\, OR
CATEGORIES:Dance
ATTACH;FMTTYPE=image/png:https://maldonmeehan.com/wp-content/uploads/2025/05/ChatGPT-Image-Jun-3-2025-at-06_22_59-PM.png
END:VEVENT
END:VCALENDAR