BEGIN:VCALENDAR
VERSION:2.0
PRODID:-//Sean-nós &amp; Set Dance with Maldon - ECPv6.15.16.1//NONSGML v1.0//EN
CALSCALE:GREGORIAN
METHOD:PUBLISH
X-ORIGINAL-URL:https://maldonmeehan.com
X-WR-CALDESC:Events for Sean-nós &amp; Set Dance with Maldon
REFRESH-INTERVAL;VALUE=DURATION:PT1H
X-Robots-Tag:noindex
X-PUBLISHED-TTL:PT1H
BEGIN:VTIMEZONE
TZID:UTC
BEGIN:STANDARD
TZOFFSETFROM:+0000
TZOFFSETTO:+0000
TZNAME:UTC
DTSTART:20250101T000000
END:STANDARD
END:VTIMEZONE
BEGIN:VEVENT
DTSTART;TZID=UTC:20260112T190000
DTEND;TZID=UTC:20260112T210000
DTSTAMP:20260423T181108
CREATED:20251223T193836Z
LAST-MODIFIED:20251223T193836Z
UID:21682-1768244400-1768251600@maldonmeehan.com
SUMMARY:WORKSHOP | Playing for Irish Set Dancing
DESCRIPTION:Pre-registration required. Contact Maldon or Betsy Branch to register and for the address.
URL:https://maldonmeehan.com/event/workshop-playing-for-irish-set-dancing/
LOCATION:OR
CATEGORIES:Workshop
END:VEVENT
END:VCALENDAR